BEGIN:VCALENDAR
VERSION:2.0
PRODID:-//eventon.com NONSGML v1.0//EN
CALSCALE:GREGORIAN
METHOD:PUBLISH
BEGIN:VEVENT
UID:69e746db2eda2
DTSTAMP:20260421T094355Z
DTSTART:20151210T180000Z
DTEND:20151210T220000Z
LOCATION:
SUMMARY:Vorweihnachtlicher Empfang
DESCRIPTION:Vorweihnachtlicher Empfang\nhttps://www.jgbnoe.at/events/vorwei
 hnachtlicher-empfang/
URL:https://www.jgbnoe.at/events/vorweihnachtlicher-empfang/
END:VEVENT
END:VCALENDAR