BEGIN:VCALENDAR
VERSION:2.0
PRODID:-//eventon.com NONSGML v1.0//EN
CALSCALE:GREGORIAN
METHOD:PUBLISH
BEGIN:VEVENT
UID:69e746ca4b8c1
DTSTAMP:20260421T094338Z
DTSTART:20200629
DTEND:20200630
LOCATION:
SUMMARY:Schulung Führen im Gefecht
DESCRIPTION:Teilnehmerkreis siehe Milizarbeitskalender 2020\nhttps://www.j
 gbnoe.at/events/schulung-fuehren-im-gefecht/
URL:https://www.jgbnoe.at/events/schulung-fuehren-im-gefecht/
END:VEVENT
END:VCALENDAR